Package: matchBox Version: 1.48.0 Command: /home/biocbuild/R/R/bin/R CMD INSTALL matchBox StartedAt: 2025-03-31 20:10:50 -0000 (Mon, 31 Mar 2025) EndedAt: 2025-03-31 20:11:05 -0000 (Mon, 31 Mar 2025) EllapsedTime: 15.5 seconds RetCode: 0 Status: OK