Package: matchBox Version: 1.48.0 Command: /Library/Frameworks/R.framework/Resources/bin/R CMD check --install=check:matchBox.install-out.txt --library=/Library/Frameworks/R.framework/Resources/library --no-vignettes --timings matchBox_1.48.0.tar.gz StartedAt: 2025-04-01 23:43:38 -0400 (Tue, 01 Apr 2025) EndedAt: 2025-04-01 23:44:03 -0400 (Tue, 01 Apr 2025) EllapsedTime: 24.8 seconds RetCode: 0 Status: OK CheckDir: matchBox.Rcheck Warnings: 0