Package: mastR Version: 1.6.0 Command: F:\biocbuild\bbs-3.20-bioc\R\bin\R.exe CMD INSTALL mastR StartedAt: 2025-03-31 17:01:05 -0400 (Mon, 31 Mar 2025) EndedAt: 2025-03-31 17:02:03 -0400 (Mon, 31 Mar 2025) EllapsedTime: 57.7 seconds RetCode: 0 Status: OK