Package: mastR Version: 1.6.0 Command: /Library/Frameworks/R.framework/Resources/bin/R CMD INSTALL mastR StartedAt: 2025-03-31 16:35:45 -0400 (Mon, 31 Mar 2025) EndedAt: 2025-03-31 16:37:12 -0400 (Mon, 31 Mar 2025) EllapsedTime: 86.8 seconds RetCode: 0 Status: OK