Package: maskBAD Version: 1.50.0 Command: /home/biocbuild/R/R/bin/R CMD INSTALL maskBAD StartedAt: 2025-03-31 20:21:04 -0000 (Mon, 31 Mar 2025) EndedAt: 2025-03-31 20:21:19 -0000 (Mon, 31 Mar 2025) EllapsedTime: 14.5 seconds RetCode: 0 Status: OK