Package: maskBAD Version: 1.50.0 Command: /home/biocbuild/R/R/bin/R CMD check --install=check:maskBAD.install-out.txt --library=/home/biocbuild/R/R/site-library --no-vignettes --timings maskBAD_1.50.0.tar.gz StartedAt: 2025-04-01 07:56:22 -0000 (Tue, 01 Apr 2025) EndedAt: 2025-04-01 07:58:04 -0000 (Tue, 01 Apr 2025) EllapsedTime: 102.2 seconds RetCode: 0 Status: OK CheckDir: maskBAD.Rcheck Warnings: 0