Package: maskBAD Version: 1.50.0 Command: rm -rf maskBAD.buildbin-libdir && mkdir maskBAD.buildbin-libdir && F:\biocbuild\bbs-3.20-bioc\R\bin\R.exe CMD INSTALL --build --library=maskBAD.buildbin-libdir maskBAD_1.50.0.tar.gz StartedAt: 2025-04-01 08:32:16 -0400 (Tue, 01 Apr 2025) EndedAt: 2025-04-01 08:32:32 -0400 (Tue, 01 Apr 2025) EllapsedTime: 15.9 seconds RetCode: 0 Status: OK PackageFile: maskBAD_1.50.0.zip PackageFileSize: 1.414 MiB