Package: maser Version: 1.24.0 Command: rm -rf maser.buildbin-libdir && mkdir maser.buildbin-libdir && /Users/biocbuild/BBS/utils/build-universal.sh maser_1.24.0.tar.gz /Library/Frameworks/R.framework/Resources/bin/R maser.buildbin-libdir StartedAt: 2025-04-02 15:00:20 -0400 (Wed, 02 Apr 2025) EndedAt: 2025-04-02 15:01:32 -0400 (Wed, 02 Apr 2025) EllapsedTime: 72.0 seconds RetCode: 0 Status: OK PackageFile: maser_1.24.0.tgz PackageFileSize: 3.889 MiB