Package: martini Version: 1.26.0 Command: /home/biocbuild/R/R/bin/R CMD INSTALL martini StartedAt: 2025-03-31 20:58:20 -0000 (Mon, 31 Mar 2025) EndedAt: 2025-03-31 20:58:49 -0000 (Mon, 31 Mar 2025) EllapsedTime: 28.3 seconds RetCode: 0 Status: OK