Package: martini Version: 1.26.0 Command: F:\biocbuild\bbs-3.20-bioc\R\bin\R.exe CMD check --no-multiarch --install=check:martini.install-out.txt --library=F:\biocbuild\bbs-3.20-bioc\R\library --no-vignettes --timings martini_1.26.0.tar.gz StartedAt: 2025-04-01 03:03:48 -0400 (Tue, 01 Apr 2025) EndedAt: 2025-04-01 03:07:24 -0400 (Tue, 01 Apr 2025) EllapsedTime: 216.7 seconds RetCode: 0 Status: OK CheckDir: martini.Rcheck Warnings: 0