Package: marray Version: 1.84.0 Command: /Library/Frameworks/R.framework/Resources/bin/R CMD build --keep-empty-dirs --no-resave-data marray StartedAt: 2025-04-01 02:17:36 -0400 (Tue, 01 Apr 2025) EndedAt: 2025-04-01 02:18:51 -0400 (Tue, 01 Apr 2025) EllapsedTime: 75.1 seconds RetCode: 0 Status: OK PackageFile: marray_1.84.0.tar.gz PackageFileSize: 5.634 MiB