Package: marr Version: 1.16.0 Command: /Library/Frameworks/R.framework/Resources/bin/R CMD INSTALL marr StartedAt: 2025-03-31 15:31:01 -0400 (Mon, 31 Mar 2025) EndedAt: 2025-03-31 15:31:35 -0400 (Mon, 31 Mar 2025) EllapsedTime: 33.8 seconds RetCode: 0 Status: OK