Package: marr Version: 1.16.0 Command: /Library/Frameworks/R.framework/Resources/bin/R CMD build --keep-empty-dirs --no-resave-data marr StartedAt: 2025-04-01 02:16:40 -0400 (Tue, 01 Apr 2025) EndedAt: 2025-04-01 02:17:36 -0400 (Tue, 01 Apr 2025) EllapsedTime: 56.1 seconds RetCode: 0 Status: OK PackageFile: marr_1.16.0.tar.gz PackageFileSize: 590.7 KiB