Package: marr Version: 1.16.0 Command: rm -rf marr.buildbin-libdir && mkdir marr.buildbin-libdir && /Users/biocbuild/BBS/utils/build-universal.sh marr_1.16.0.tar.gz /Library/Frameworks/R.framework/Resources/bin/R marr.buildbin-libdir StartedAt: 2025-04-02 14:59:57 -0400 (Wed, 02 Apr 2025) EndedAt: 2025-04-02 15:00:36 -0400 (Wed, 02 Apr 2025) EllapsedTime: 38.8 seconds RetCode: 0 Status: OK PackageFile: marr_1.16.0.tgz PackageFileSize: 803.9 KiB