Package: mariner Version: 1.6.0 Command: /home/biocbuild/R/R/bin/R CMD INSTALL mariner StartedAt: 2025-03-31 20:37:16 -0000 (Mon, 31 Mar 2025) EndedAt: 2025-03-31 20:38:09 -0000 (Mon, 31 Mar 2025) EllapsedTime: 53.1 seconds RetCode: 0 Status: OK