Package: mariner Version: 1.6.0 Command: /Library/Frameworks/R.framework/Resources/bin/R CMD INSTALL mariner StartedAt: 2025-03-31 15:42:33 -0400 (Mon, 31 Mar 2025) EndedAt: 2025-03-31 15:43:58 -0400 (Mon, 31 Mar 2025) EllapsedTime: 84.9 seconds RetCode: 0 Status: OK