Package: mapscape Version: 1.30.0 Command: /home/biocbuild/R/R/bin/R CMD INSTALL mapscape StartedAt: 2025-03-31 20:41:36 -0000 (Mon, 31 Mar 2025) EndedAt: 2025-03-31 20:41:39 -0000 (Mon, 31 Mar 2025) EllapsedTime: 3.0 seconds RetCode: 0 Status: OK