Package: mapscape Version: 1.30.0 Command: rm -rf mapscape.buildbin-libdir && mkdir mapscape.buildbin-libdir && F:\biocbuild\bbs-3.20-bioc\R\bin\R.exe CMD INSTALL --build --library=mapscape.buildbin-libdir mapscape_1.30.0.tar.gz StartedAt: 2025-04-01 08:32:00 -0400 (Tue, 01 Apr 2025) EndedAt: 2025-04-01 08:32:16 -0400 (Tue, 01 Apr 2025) EllapsedTime: 15.9 seconds RetCode: 0 Status: OK PackageFile: mapscape_1.30.0.zip PackageFileSize: 4.136 MiB