Package: makecdfenv Version: 1.82.0 Command: /home/biocbuild/bbs-3.20-bioc/R/bin/R CMD build --keep-empty-dirs --no-resave-data --md5 makecdfenv StartedAt: 2025-03-31 17:51:09 -0400 (Mon, 31 Mar 2025) EndedAt: 2025-03-31 17:51:18 -0400 (Mon, 31 Mar 2025) EllapsedTime: 9.0 seconds RetCode: 0 Status: OK PackageFile: makecdfenv_1.82.0.tar.gz PackageFileSize: 3.259 MiB