Package: makecdfenv Version: 1.82.0 Command: rm -rf makecdfenv.buildbin-libdir && mkdir makecdfenv.buildbin-libdir && /Users/biocbuild/BBS/utils/build-universal.sh makecdfenv_1.82.0.tar.gz /Library/Frameworks/R.framework/Resources/bin/R makecdfenv.buildbin-libdir StartedAt: 2025-04-02 14:59:20 -0400 (Wed, 02 Apr 2025) EndedAt: 2025-04-02 14:59:34 -0400 (Wed, 02 Apr 2025) EllapsedTime: 13.4 seconds RetCode: 0 Status: OK PackageFile: makecdfenv_1.82.0.tgz PackageFileSize: 3.422 MiB