Package: magpie Version: 1.6.0 Command: /Library/Frameworks/R.framework/Resources/bin/R CMD INSTALL magpie StartedAt: 2025-03-31 18:00:34 -0400 (Mon, 31 Mar 2025) EndedAt: 2025-03-31 18:01:18 -0400 (Mon, 31 Mar 2025) EllapsedTime: 43.9 seconds RetCode: 0 Status: OK