Package: maftools Version: 2.22.0 Command: /home/biocbuild/bbs-3.20-bioc/R/bin/R CMD build --keep-empty-dirs --no-resave-data --md5 maftools StartedAt: 2025-03-31 17:50:39 -0400 (Mon, 31 Mar 2025) EndedAt: 2025-03-31 17:53:43 -0400 (Mon, 31 Mar 2025) EllapsedTime: 184.2 seconds RetCode: 0 Status: OK PackageFile: maftools_2.22.0.tar.gz PackageFileSize: 11.9 MiB