Package: made4 Version: 1.80.0 Command: /home/biocbuild/bbs-3.20-bioc/R/bin/R CMD INSTALL made4 StartedAt: 2025-03-31 15:16:15 -0400 (Mon, 31 Mar 2025) EndedAt: 2025-03-31 15:16:36 -0400 (Mon, 31 Mar 2025) EllapsedTime: 21.0 seconds RetCode: 0 Status: OK