Package: made4 Version: 1.80.0 Command: /Library/Frameworks/R.framework/Resources/bin/R CMD check --install=check:made4.install-out.txt --library=/Library/Frameworks/R.framework/Resources/library --no-vignettes --timings made4_1.80.0.tar.gz StartedAt: 2025-04-01 05:03:05 -0400 (Tue, 01 Apr 2025) EndedAt: 2025-04-01 05:08:24 -0400 (Tue, 01 Apr 2025) EllapsedTime: 318.6 seconds RetCode: 0 Status: OK CheckDir: made4.Rcheck Warnings: 0