Package: made4 Version: 1.80.0 Command: /Library/Frameworks/R.framework/Resources/bin/R CMD INSTALL made4 StartedAt: 2025-03-31 15:24:09 -0400 (Mon, 31 Mar 2025) EndedAt: 2025-03-31 15:24:34 -0400 (Mon, 31 Mar 2025) EllapsedTime: 25.6 seconds RetCode: 0 Status: OK