Package: maSigPro Version: 1.78.0 Command: chmod a+r maSigPro -R && F:\biocbuild\bbs-3.20-bioc\R\bin\R.exe CMD build --keep-empty-dirs --no-resave-data maSigPro StartedAt: 2025-03-31 19:56:25 -0400 (Mon, 31 Mar 2025) EndedAt: 2025-03-31 19:56:43 -0400 (Mon, 31 Mar 2025) EllapsedTime: 17.8 seconds RetCode: 0 Status: OK PackageFile: maSigPro_1.78.0.tar.gz PackageFileSize: 1.437 MiB