Package: maSigPro Version: 1.78.0 Command: /Library/Frameworks/R.framework/Resources/bin/R CMD INSTALL maSigPro StartedAt: 2025-03-31 15:06:57 -0400 (Mon, 31 Mar 2025) EndedAt: 2025-03-31 15:07:03 -0400 (Mon, 31 Mar 2025) EllapsedTime: 5.3 seconds RetCode: 0 Status: OK