Package: maSigPro Version: 1.78.0 Command: rm -rf maSigPro.buildbin-libdir && mkdir maSigPro.buildbin-libdir && /Users/biocbuild/BBS/utils/build-universal.sh maSigPro_1.78.0.tar.gz /Library/Frameworks/R.framework/Resources/bin/R maSigPro.buildbin-libdir StartedAt: 2025-04-02 15:00:21 -0400 (Wed, 02 Apr 2025) EndedAt: 2025-04-02 15:00:28 -0400 (Wed, 02 Apr 2025) EllapsedTime: 6.8 seconds RetCode: 0 Status: OK PackageFile: maSigPro_1.78.0.tgz PackageFileSize: 1.683 MiB