Package: maPredictDSC Version: 1.44.0 Command: /Library/Frameworks/R.framework/Resources/bin/R CMD check --install=check:maPredictDSC.install-out.txt --library=/Library/Frameworks/R.framework/Resources/library --no-vignettes --timings maPredictDSC_1.44.0.tar.gz StartedAt: 2025-04-01 23:34:34 -0400 (Tue, 01 Apr 2025) EndedAt: 2025-04-01 23:38:42 -0400 (Tue, 01 Apr 2025) EllapsedTime: 248.5 seconds RetCode: 0 Status: OK CheckDir: maPredictDSC.Rcheck Warnings: 0