Package: maCorrPlot Version: 1.76.0 Command: /Library/Frameworks/R.framework/Resources/bin/R CMD INSTALL maCorrPlot StartedAt: 2025-03-31 15:05:44 -0400 (Mon, 31 Mar 2025) EndedAt: 2025-03-31 15:05:46 -0400 (Mon, 31 Mar 2025) EllapsedTime: 2.3 seconds RetCode: 0 Status: OK