Package: mCSEA Version: 1.26.2 Command: /home/biocbuild/bbs-3.20-bioc/R/bin/R CMD INSTALL mCSEA StartedAt: 2025-03-31 15:43:49 -0400 (Mon, 31 Mar 2025) EndedAt: 2025-03-31 15:44:27 -0400 (Mon, 31 Mar 2025) EllapsedTime: 38.1 seconds RetCode: 0 Status: OK