Package: mCSEA Version: 1.26.2 Command: /home/biocbuild/bbs-3.20-bioc/R/bin/R CMD check --install=check:mCSEA.install-out.txt --library=/home/biocbuild/bbs-3.20-bioc/R/site-library --timings mCSEA_1.26.2.tar.gz StartedAt: 2025-03-31 23:35:32 -0400 (Mon, 31 Mar 2025) EndedAt: 2025-03-31 23:43:36 -0400 (Mon, 31 Mar 2025) EllapsedTime: 483.5 seconds RetCode: 0 Status: OK CheckDir: mCSEA.Rcheck Warnings: 0