Package: mCSEA Version: 1.26.2 Command: /Library/Frameworks/R.framework/Resources/bin/R CMD INSTALL mCSEA StartedAt: 2025-03-31 16:07:29 -0400 (Mon, 31 Mar 2025) EndedAt: 2025-03-31 16:08:49 -0400 (Mon, 31 Mar 2025) EllapsedTime: 79.7 seconds RetCode: 0 Status: OK