Package: mCSEA Version: 1.26.2 Command: /Library/Frameworks/R.framework/Resources/bin/R CMD check --install=check:mCSEA.install-out.txt --library=/Library/Frameworks/R.framework/Resources/library --no-vignettes --timings mCSEA_1.26.2.tar.gz StartedAt: 2025-04-01 23:50:48 -0400 (Tue, 01 Apr 2025) EndedAt: 2025-04-01 23:57:19 -0400 (Tue, 01 Apr 2025) EllapsedTime: 391.5 seconds RetCode: 0 Status: OK CheckDir: mCSEA.Rcheck Warnings: 0