Package: mCSEA Version: 1.26.2 Command: rm -rf mCSEA.buildbin-libdir && mkdir mCSEA.buildbin-libdir && /Users/biocbuild/BBS/utils/build-universal.sh mCSEA_1.26.2.tar.gz /Library/Frameworks/R.framework/Resources/bin/R mCSEA.buildbin-libdir StartedAt: 2025-04-02 15:01:59 -0400 (Wed, 02 Apr 2025) EndedAt: 2025-04-02 15:02:50 -0400 (Wed, 02 Apr 2025) EllapsedTime: 51.0 seconds RetCode: 0 Status: OK PackageFile: mCSEA_1.26.2.tgz PackageFileSize: 2.083 MiB