Package: mBPCR Version: 1.60.0 Command: /home/biocbuild/R/R/bin/R CMD INSTALL mBPCR StartedAt: 2025-03-31 20:59:23 -0000 (Mon, 31 Mar 2025) EndedAt: 2025-03-31 21:00:02 -0000 (Mon, 31 Mar 2025) EllapsedTime: 38.6 seconds RetCode: 0 Status: OK