Package: m6Aboost Version: 1.12.0 Command: /home/biocbuild/bbs-3.20-bioc/R/bin/R CMD INSTALL m6Aboost StartedAt: 2025-03-31 15:50:13 -0400 (Mon, 31 Mar 2025) EndedAt: 2025-03-31 15:50:55 -0400 (Mon, 31 Mar 2025) EllapsedTime: 41.5 seconds RetCode: 0 Status: OK