Package: m6Aboost Version: 1.12.0 Command: /Library/Frameworks/R.framework/Resources/bin/R CMD build --keep-empty-dirs --no-resave-data m6Aboost StartedAt: 2025-03-31 19:43:45 -0400 (Mon, 31 Mar 2025) EndedAt: 2025-03-31 19:46:12 -0400 (Mon, 31 Mar 2025) EllapsedTime: 146.4 seconds RetCode: 0 Status: OK PackageFile: m6Aboost_1.12.0.tar.gz PackageFileSize: 759.5 KiB