Package: m6Aboost Version: 1.12.0 Command: /Library/Frameworks/R.framework/Resources/bin/R CMD build --keep-empty-dirs --no-resave-data m6Aboost StartedAt: 2025-04-01 02:08:55 -0400 (Tue, 01 Apr 2025) EndedAt: 2025-04-01 02:10:24 -0400 (Tue, 01 Apr 2025) EllapsedTime: 89.0 seconds RetCode: 0 Status: OK PackageFile: m6Aboost_1.12.0.tar.gz PackageFileSize: 759.6 KiB