Package: lute Version: 1.2.0 Command: /home/biocbuild/R/R/bin/R CMD build --keep-empty-dirs --no-resave-data lute StartedAt: 2025-04-01 00:29:20 -0000 (Tue, 01 Apr 2025) EndedAt: 2025-04-01 00:30:22 -0000 (Tue, 01 Apr 2025) EllapsedTime: 62.0 seconds RetCode: 0 Status: OK PackageFile: lute_1.2.0.tar.gz PackageFileSize: 2.271 MiB