Package: lute Version: 1.2.0 Command: /home/biocbuild/bbs-3.20-bioc/R/bin/R CMD check --install=check:lute.install-out.txt --library=/home/biocbuild/bbs-3.20-bioc/R/site-library --timings lute_1.2.0.tar.gz StartedAt: 2025-03-31 23:28:42 -0400 (Mon, 31 Mar 2025) EndedAt: 2025-03-31 23:32:31 -0400 (Mon, 31 Mar 2025) EllapsedTime: 229.4 seconds RetCode: 0 Status: OK CheckDir: lute.Rcheck Warnings: 0