Package: lumi Version: 2.58.0 Command: /home/biocbuild/bbs-3.20-bioc/R/bin/R CMD INSTALL lumi StartedAt: 2025-03-31 15:58:15 -0400 (Mon, 31 Mar 2025) EndedAt: 2025-03-31 15:59:12 -0400 (Mon, 31 Mar 2025) EllapsedTime: 57.1 seconds RetCode: 0 Status: OK