Package: lumi Version: 2.58.0 Command: /Library/Frameworks/R.framework/Resources/bin/R CMD INSTALL lumi StartedAt: 2025-03-31 18:00:42 -0400 (Mon, 31 Mar 2025) EndedAt: 2025-03-31 18:01:45 -0400 (Mon, 31 Mar 2025) EllapsedTime: 62.7 seconds RetCode: 0 Status: OK