Package: lumi Version: 2.58.0 Command: /Library/Frameworks/R.framework/Resources/bin/R CMD build --keep-empty-dirs --no-resave-data lumi StartedAt: 2025-04-01 02:07:23 -0400 (Tue, 01 Apr 2025) EndedAt: 2025-04-01 02:07:25 -0400 (Tue, 01 Apr 2025) EllapsedTime: 2.2 seconds RetCode: 0 Status: OK PackageFile: lumi_2.58.0.tar.gz PackageFileSize: 8.033 MiB