Package: lpsymphony Version: 1.34.0 Command: chmod a+r lpsymphony -R && F:\biocbuild\bbs-3.20-bioc\R\bin\R.exe CMD build --keep-empty-dirs --no-resave-data lpsymphony StartedAt: 2025-03-31 19:52:43 -0400 (Mon, 31 Mar 2025) EndedAt: 2025-03-31 19:54:14 -0400 (Mon, 31 Mar 2025) EllapsedTime: 90.2 seconds RetCode: 0 Status: OK PackageFile: lpsymphony_1.34.0.tar.gz PackageFileSize: 11.43 MiB