Package: logicFS Version: 2.26.0 Command: /home/biocbuild/R/R/bin/R CMD INSTALL logicFS StartedAt: 2025-03-31 20:55:46 -0000 (Mon, 31 Mar 2025) EndedAt: 2025-03-31 20:55:58 -0000 (Mon, 31 Mar 2025) EllapsedTime: 11.7 seconds RetCode: 0 Status: OK