Package: logicFS Version: 2.26.0 Command: /Library/Frameworks/R.framework/Resources/bin/R CMD INSTALL logicFS StartedAt: 2025-03-31 16:13:51 -0400 (Mon, 31 Mar 2025) EndedAt: 2025-03-31 16:14:11 -0400 (Mon, 31 Mar 2025) EllapsedTime: 20.2 seconds RetCode: 0 Status: OK