Package: loci2path Version: 1.26.0 Command: /home/biocbuild/bbs-3.20-bioc/R/bin/R CMD INSTALL loci2path StartedAt: 2025-03-31 15:23:02 -0400 (Mon, 31 Mar 2025) EndedAt: 2025-03-31 15:23:13 -0400 (Mon, 31 Mar 2025) EllapsedTime: 11.1 seconds RetCode: 0 Status: OK