Package: lmdme Version: 1.48.0 Command: F:\biocbuild\bbs-3.20-bioc\R\bin\R.exe CMD INSTALL lmdme StartedAt: 2025-03-31 15:29:30 -0400 (Mon, 31 Mar 2025) EndedAt: 2025-03-31 15:29:58 -0400 (Mon, 31 Mar 2025) EllapsedTime: 28.1 seconds RetCode: 0 Status: OK