Package: lmdme Version: 1.48.0 Command: chmod a+r lmdme -R && F:\biocbuild\bbs-3.20-bioc\R\bin\R.exe CMD build --keep-empty-dirs --no-resave-data lmdme StartedAt: 2025-03-31 19:52:06 -0400 (Mon, 31 Mar 2025) EndedAt: 2025-03-31 19:52:38 -0400 (Mon, 31 Mar 2025) EllapsedTime: 31.7 seconds RetCode: 0 Status: OK PackageFile: lmdme_1.48.0.tar.gz PackageFileSize: 611.5 KiB